BEGIN:VCALENDAR
VERSION:2.0
PRODID:-//Tukios.com/
BEGIN:VEVENT
UID:8407b513-d4c5-463a-bc16-bd4e310d1098@www.newcomerkentuckiana.com
DTSTAMP:20260421T162040Z
DTSTART:20260425T140000Z
DTEND:20260425T180000Z
SUMMARY:Visitation
DESCRIPTION:
URL:https://www.newcomerkentuckiana.com/obituaries/vickie-franklin
LOCATION: 3309 Ballard Ln  New Albany IN 47150
GEO:38.3261504;-85.8222084
END:VEVENT
END:VCALENDAR