BEGIN:VCALENDAR
VERSION:2.0
PRODID:-//Tukios.com/
BEGIN:VEVENT
UID:0032df11-dfcf-4c8f-a6c4-0fff9e29ce50@www.newcomerkentuckiana.com
DTSTAMP:20260423T174404Z
DTSTART:20260502T200000Z
DTEND:20260502T210000Z
SUMMARY:Funeral Service
DESCRIPTION:
URL:https://www.newcomerkentuckiana.com/obituaries/vanessa-tucker
LOCATION: 10304 Dixie Hwy  Louisville KY 40272
GEO:38.1057899;-85.8694539
END:VEVENT
END:VCALENDAR