BEGIN:VCALENDAR
VERSION:2.0
PRODID:-//Tukios.com/
BEGIN:VEVENT
UID:c171e0cc-8623-47e0-b4d2-1cc9102e6c8d@www.newcomerkentuckiana.com
DTSTAMP:20260423T174743Z
DTSTART:20260502T180000Z
DTEND:20260502T200000Z
SUMMARY:Visitation
DESCRIPTION:
URL:https://www.newcomerkentuckiana.com/obituaries/vanessa-tucker
LOCATION: 10304 Dixie Hwy  Louisville KY 40272
GEO:38.1057899;-85.8694539
END:VEVENT
END:VCALENDAR