BEGIN:VCALENDAR
VERSION:2.0
PRODID:-//Tukios.com/
BEGIN:VEVENT
UID:547015b6-9324-4053-bdf2-e7c888fc8f86@www.newcomerkentuckiana.com
DTSTAMP:20260421T200605Z
DTSTART:20260427T170000Z
DTEND:20260427T180000Z
SUMMARY:Funeral Service
DESCRIPTION:
URL:https://www.newcomerkentuckiana.com/obituaries/uconda-schoolfield
LOCATION: 10304 Dixie Highway  Louisville KY 40272
GEO:38.1057899;-85.8694539
END:VEVENT
END:VCALENDAR