BEGIN:VCALENDAR
VERSION:2.0
PRODID:-//Tukios.com/
BEGIN:VEVENT
UID:db67350e-49c8-4758-9473-f1d2c4c9bd71@www.newcomerkentuckiana.com
DTSTAMP:20260421T200805Z
DTSTART:20260427T153000Z
DTEND:20260427T170000Z
SUMMARY:Visitation
DESCRIPTION:
URL:https://www.newcomerkentuckiana.com/obituaries/uconda-schoolfield
LOCATION: 10304 Dixie Highway  Louisville KY 40272
GEO:38.1057899;-85.8694539
END:VEVENT
END:VCALENDAR