BEGIN:VCALENDAR
VERSION:2.0
PRODID:-//Tukios.com/
BEGIN:VEVENT
UID:bea4f00f-e727-4834-8b71-4e1892620332@www.newcomerkentuckiana.com
DTSTAMP:20260421T191025Z
DTSTART:20260424
SUMMARY:Burial
DESCRIPTION:
URL:https://www.newcomerkentuckiana.com/obituaries/tonya-ruzanka
LOCATION: 5600 Old Floydsburg Rd  Crestwood KY 40014
GEO:38.311039;-85.4580984
END:VEVENT
END:VCALENDAR