BEGIN:VCALENDAR
VERSION:2.0
PRODID:-//Tukios.com/
BEGIN:VEVENT
UID:962e678b-4fae-4a2c-9a6f-b7a5d13236f5@www.newcomerkentuckiana.com
DTSTAMP:20260421T190902Z
DTSTART:20260424T150000Z
DTEND:20260424T160000Z
SUMMARY:Celebration of Life
DESCRIPTION:
URL:https://www.newcomerkentuckiana.com/obituaries/tonya-ruzanka
LOCATION:Chapel in the Woods 1407 Moser Road  Louisville KY 40299
GEO:38.2250247;-85.5540889
END:VEVENT
END:VCALENDAR