BEGIN:VCALENDAR
VERSION:2.0
PRODID:-//Tukios.com/
BEGIN:VEVENT
UID:0a58d922-2e36-43a3-b6e5-7210089471da@www.newcomerkentuckiana.com
DTSTAMP:20260421T190353Z
DTSTART:20260424T133000Z
DTEND:20260424T150000Z
SUMMARY:Visitation
DESCRIPTION:
URL:https://www.newcomerkentuckiana.com/obituaries/tonya-ruzanka
LOCATION:Chapel in the Woods 1407 Moser Road  Louisville KY 40299
GEO:38.2250247;-85.5540889
END:VEVENT
END:VCALENDAR