BEGIN:VCALENDAR
VERSION:2.0
PRODID:-//Tukios.com/
BEGIN:VEVENT
UID:432d696f-b174-4c84-8835-c0be62d6ef7e@www.newcomerkentuckiana.com
DTSTAMP:20260421T190942Z
DTSTART:20260423T190000Z
DTEND:20260424T000000Z
SUMMARY:Visitation
DESCRIPTION:
URL:https://www.newcomerkentuckiana.com/obituaries/tonya-ruzanka
LOCATION:Newcomer Cremations, Funerals and Receptions, East Louisville 
	Chapel 235 Juneau Drive  Louisville KY 40243
GEO:38.2465215;-85.5248314
END:VEVENT
END:VCALENDAR