BEGIN:VCALENDAR
VERSION:2.0
PRODID:-//Tukios.com/
BEGIN:VEVENT
UID:5550ccff-865f-4c05-905e-9292085e987e@www.newcomerkentuckiana.com
DTSTAMP:20260423T151809Z
DTSTART:20260509T200000Z
DTEND:20260509T210000Z
SUMMARY:Tree Dedication
DESCRIPTION:
URL:https://www.newcomerkentuckiana.com/obituaries/richard-scurlock-jr
LOCATION:Warren Walker Park 501 Gatehouse Lane  Douglass Hills KY 40243
GEO:38.2385048;-85.5549851
END:VEVENT
END:VCALENDAR