BEGIN:VCALENDAR
VERSION:2.0
PRODID:-//Tukios.com/
BEGIN:VEVENT
UID:02c343d6-294d-4d3b-ac2c-67ca142658a7@www.newcomerkentuckiana.com
DTSTAMP:20260423T151549Z
DTSTART:20260509T170000Z
DTEND:20260509T180000Z
SUMMARY:Memorial Service
DESCRIPTION:
URL:https://www.newcomerkentuckiana.com/obituaries/richard-scurlock-jr
LOCATION:  Watterson Trail  Louisville KY 
GEO:38.2109929;-85.5590922
END:VEVENT
END:VCALENDAR