BEGIN:VCALENDAR
VERSION:2.0
PRODID:-//Tukios.com/
BEGIN:VEVENT
UID:d08aaecb-289a-4123-983d-173de92296eb@www.newcomerkentuckiana.com
DTSTAMP:20260425T191047Z
DTSTART:20260428
SUMMARY:Burial
DESCRIPTION:
URL:https://www.newcomerkentuckiana.com/obituaries/renate-waddell
LOCATION: 10917 Dixie Highway  Louisville KY 40272
GEO:38.0959664;-85.8731104
END:VEVENT
END:VCALENDAR