BEGIN:VCALENDAR
VERSION:2.0
PRODID:-//Tukios.com/
BEGIN:VEVENT
UID:64bd77bb-1164-4ddb-a734-b2537f2bac99@www.newcomerkentuckiana.com
DTSTAMP:20260425T191222Z
DTSTART:20260428T180000Z
DTEND:20260428T190000Z
SUMMARY:Celebration of Life
DESCRIPTION:
URL:https://www.newcomerkentuckiana.com/obituaries/renate-waddell
LOCATION: 10304 Dixie Hwy  Louisville KY 40272
GEO:38.1057899;-85.8694539
END:VEVENT
END:VCALENDAR