BEGIN:VCALENDAR
VERSION:2.0
PRODID:-//Tukios.com/
BEGIN:VEVENT
UID:aebd3422-34ce-4fb5-9efd-756f97496aed@www.newcomerkentuckiana.com
DTSTAMP:20260425T191222Z
DTSTART:20260428T150000Z
DTEND:20260428T180000Z
SUMMARY:Visitation
DESCRIPTION:
URL:https://www.newcomerkentuckiana.com/obituaries/renate-waddell
LOCATION: 10304 Dixie Hwy  Louisville KY 40272
GEO:38.1057899;-85.8694539
END:VEVENT
END:VCALENDAR