BEGIN:VCALENDAR
VERSION:2.0
PRODID:-//Tukios.com/
BEGIN:VEVENT
UID:63334f6b-0319-42b4-b6f8-9a5e693a1e7c@www.newcomerkentuckiana.com
DTSTAMP:20260423T203134Z
DTSTART:20260428T150000Z
DTEND:20260428T160000Z
SUMMARY:Mass
DESCRIPTION:
URL:https://www.newcomerkentuckiana.com/obituaries/patrick-borho
LOCATION:St. John Paul II Catholic Church 2253 West Saint Joe Road  
	Sellersburg IN 47172
GEO:38.3993129;-85.7983373
END:VEVENT
END:VCALENDAR