BEGIN:VCALENDAR
VERSION:2.0
PRODID:-//Tukios.com/
BEGIN:VEVENT
UID:b2972ff6-5e05-472f-8c30-545abf3cad14@www.newcomerkentuckiana.com
DTSTAMP:20260421T090906Z
DTSTART:20260423T180000Z
DTEND:20260423T220000Z
SUMMARY:Visitation
DESCRIPTION:
URL:https://www.newcomerkentuckiana.com/obituaries/oscar-shipman-jr
LOCATION: 10304 Dixie Hwy  Louisville KY 40272
GEO:38.1057899;-85.8694539
END:VEVENT
END:VCALENDAR