BEGIN:VCALENDAR
VERSION:2.0
PRODID:-//Tukios.com/
BEGIN:VEVENT
UID:a059143d-825c-4348-a9c8-eb72d9f610f0@www.newcomerkentuckiana.com
DTSTAMP:20260424T204208Z
DTSTART:20260429T150000Z
DTEND:20260429T160000Z
SUMMARY:Funeral Service
DESCRIPTION:
URL:https://www.newcomerkentuckiana.com/obituaries/mary-blakeney
LOCATION: 10304 Dixie Hwy  Louisville KY 40272
GEO:38.1057899;-85.8694539
END:VEVENT
END:VCALENDAR