BEGIN:VCALENDAR
VERSION:2.0
PRODID:-//Tukios.com/
BEGIN:VEVENT
UID:e8a340dd-bc21-40d6-b4f4-182e9e773c21@www.newcomerkentuckiana.com
DTSTAMP:20260425T195233Z
DTSTART:20260507T233000Z
DTEND:20260508T003000Z
SUMMARY:Memorial Gathering
DESCRIPTION:
URL:https://www.newcomerkentuckiana.com/obituaries/judith-bruce
LOCATION: 235 Juneau Drive  Louisville KY 40243
GEO:38.2465215;-85.5248314
END:VEVENT
END:VCALENDAR