BEGIN:VCALENDAR
VERSION:2.0
PRODID:-//Tukios.com/
BEGIN:VEVENT
UID:c87a785d-d21a-4c1a-aaf8-71f823a1bb72@www.newcomerkentuckiana.com
DTSTAMP:20260425T194932Z
DTSTART:20260507T210000Z
DTEND:20260507T233000Z
SUMMARY:Memorial Gathering
DESCRIPTION:
URL:https://www.newcomerkentuckiana.com/obituaries/judith-bruce
LOCATION:Newcomer Cremations, Funerals and Receptions, East Louisville 
	Chapel 235 Juneau Drive  Louisville KY 40243
GEO:38.2465215;-85.5248314
END:VEVENT
END:VCALENDAR