BEGIN:VCALENDAR
VERSION:2.0
PRODID:-//Tukios.com/
BEGIN:VEVENT
UID:cf32f502-a432-40db-bf60-35f58e02b0dd@www.newcomerkentuckiana.com
DTSTAMP:20260424T030405Z
DTSTART:20260501
SUMMARY:Burial
DESCRIPTION:
URL:https://www.newcomerkentuckiana.com/obituaries/jane-shull
LOCATION: 4400 Dixie Highway  Shively KY 40216
GEO:38.1844971;-85.8142815
END:VEVENT
END:VCALENDAR