BEGIN:VCALENDAR
VERSION:2.0
PRODID:-//Tukios.com/
BEGIN:VEVENT
UID:10becc24-609e-4188-abdc-76c90d0d5fd7@www.newcomerkentuckiana.com
DTSTAMP:20260422T180056Z
DTSTART:20260428T170000Z
DTEND:20260428T173000Z
SUMMARY:Funeral Service
DESCRIPTION:
URL:https://www.newcomerkentuckiana.com/obituaries/james-jim-powell
LOCATION: 3309 Ballard Ln  New Albany IN 47150
GEO:38.3261504;-85.8222084
END:VEVENT
END:VCALENDAR