BEGIN:VCALENDAR
VERSION:2.0
PRODID:-//Tukios.com/
BEGIN:VEVENT
UID:d86b57ec-3170-4c3b-95fe-749e6ef31c67@www.newcomerkentuckiana.com
DTSTAMP:20260422T180617Z
DTSTART:20260428T140000Z
DTEND:20260428T170000Z
SUMMARY:Visitation
DESCRIPTION:
URL:https://www.newcomerkentuckiana.com/obituaries/james-jim-powell
LOCATION: 3309 Ballard Ln  New Albany IN 47150
GEO:38.3261504;-85.8222084
END:VEVENT
END:VCALENDAR