BEGIN:VCALENDAR
VERSION:2.0
PRODID:-//Tukios.com/
BEGIN:VEVENT
UID:b4dfc3ea-7d59-4f06-9243-09d87242a65e@www.newcomerkentuckiana.com
DTSTAMP:20260421T234740Z
DTSTART:20260427T170000Z
DTEND:20260427T180000Z
SUMMARY:Mass
DESCRIPTION:
URL:https://www.newcomerkentuckiana.com/obituaries/helen-graf
LOCATION:St. John Paul II - St. Joe Hill Chapel 2253 W. St. Joe Road  
	Sellersburg IN 47172
GEO:38.3993129;-85.7983373
END:VEVENT
END:VCALENDAR