BEGIN:VCALENDAR
VERSION:2.0
PRODID:-//Tukios.com/
BEGIN:VEVENT
UID:a61ef1fe-ceff-4456-8213-8878f08ae67f@www.newcomerkentuckiana.com
DTSTAMP:20260421T234611Z
DTSTART:20260426T160000Z
DTEND:20260426T220000Z
SUMMARY:Visitation
DESCRIPTION:
URL:https://www.newcomerkentuckiana.com/obituaries/helen-graf
LOCATION: 3309 Ballard Ln  New Albany IN 47150
GEO:38.3261504;-85.8222084
END:VEVENT
END:VCALENDAR