BEGIN:VCALENDAR
VERSION:2.0
PRODID:-//Tukios.com/
BEGIN:VEVENT
UID:b9aba88d-def0-4fcd-bcab-41dd7c2d4ed7@www.newcomerkentuckiana.com
DTSTAMP:20260420T222649Z
DTSTART:20260426T200000Z
DTEND:20260426T210000Z
SUMMARY:Funeral Service
DESCRIPTION:
URL:https://www.newcomerkentuckiana.com/obituaries/diana-verrick
LOCATION: 3309 Ballard Ln  New Albany IN 47150
GEO:38.3261504;-85.8222084
END:VEVENT
END:VCALENDAR