BEGIN:VCALENDAR
VERSION:2.0
PRODID:-//Tukios.com/
BEGIN:VEVENT
UID:1f87a410-b1e3-4230-a74d-1bf04a705a3d@www.newcomerkentuckiana.com
DTSTAMP:20260424T225142Z
DTSTART:20260530T170000Z
DTEND:20260530T200000Z
SUMMARY:Celebration of Life
DESCRIPTION:
URL:https://www.newcomerkentuckiana.com/obituaries/david-futch
LOCATION: 9000 Brown Austin Road  Louisville KY 40118
GEO:38.1200926;-85.7676989
END:VEVENT
END:VCALENDAR