BEGIN:VCALENDAR
VERSION:2.0
PRODID:-//Tukios.com/
BEGIN:VEVENT
UID:115d857e-9cfd-41f5-9f2e-b0a411f48409@www.newcomerkentuckiana.com
DTSTAMP:20260421T085442Z
DTSTART:20260418T200000Z
DTEND:20260418T210000Z
SUMMARY:Funeral Service
DESCRIPTION:
URL:https://www.newcomerkentuckiana.com/obituaries/cody-clements
LOCATION: 10304 Dixie Highway  Louisville KY 40272
GEO:38.1057899;-85.8694539
END:VEVENT
END:VCALENDAR