BEGIN:VCALENDAR
VERSION:2.0
PRODID:-//Tukios.com/
BEGIN:VEVENT
UID:164292d7-1f0a-4467-b208-60dce8c5f341@www.newcomerkentuckiana.com
DTSTAMP:20260421T223430Z
DTSTART:20260427T160000Z
DTEND:20260427T170000Z
SUMMARY:Graveside Service
DESCRIPTION:
URL:https://www.newcomerkentuckiana.com/obituaries/christopher-koenig
LOCATION:Fairview Cemetery 800 6th St  New Albany IN 47150
GEO:38.293022;-85.8198244
END:VEVENT
END:VCALENDAR