BEGIN:VCALENDAR
VERSION:2.0
PRODID:-//Tukios.com/
BEGIN:VEVENT
UID:d1665b44-0ae6-455b-88e9-dcf8605eb911@www.newcomerkentuckiana.com
DTSTAMP:20260421T222918Z
DTSTART:20260429T220000Z
DTEND:20260429T230000Z
SUMMARY:Funeral Service
DESCRIPTION:
URL:https://www.newcomerkentuckiana.com/obituaries/bruce-dowdle
LOCATION: 10304 Dixie Hwy  Louisville KY 40272
GEO:38.1057899;-85.8694539
END:VEVENT
END:VCALENDAR