BEGIN:VCALENDAR
VERSION:2.0
PRODID:-//Tukios.com/
BEGIN:VEVENT
UID:7e70dbdf-669c-4f66-b153-36c4c3fd55c7@www.newcomerkentuckiana.com
DTSTAMP:20260421T223123Z
DTSTART:20260429T170000Z
DTEND:20260429T230000Z
SUMMARY:Visitation
DESCRIPTION:
URL:https://www.newcomerkentuckiana.com/obituaries/bruce-dowdle
LOCATION: 10304 Dixie Hwy  Louisville KY 40272
GEO:38.1057899;-85.8694539
END:VEVENT
END:VCALENDAR